BEGIN:VCALENDAR
VERSION:2.0
PRODID:-//AG geschichtliche Landeskunde am Oberrhein - ECPv6.15.20//NONSGML v1.0//EN
CALSCALE:GREGORIAN
METHOD:PUBLISH
X-ORIGINAL-URL:https://ag-landeskunde-oberrhein.de
X-WR-CALDESC:Veranstaltungen für AG geschichtliche Landeskunde am Oberrhein
REFRESH-INTERVAL;VALUE=DURATION:PT1H
X-Robots-Tag:noindex
X-PUBLISHED-TTL:PT1H
BEGIN:VTIMEZONE
TZID:Europe/Berlin
BEGIN:DAYLIGHT
TZOFFSETFROM:+0100
TZOFFSETTO:+0200
TZNAME:CEST
DTSTART:20210328T010000
END:DAYLIGHT
BEGIN:STANDARD
TZOFFSETFROM:+0200
TZOFFSETTO:+0100
TZNAME:CET
DTSTART:20211031T010000
END:STANDARD
BEGIN:DAYLIGHT
TZOFFSETFROM:+0100
TZOFFSETTO:+0200
TZNAME:CEST
DTSTART:20220327T010000
END:DAYLIGHT
BEGIN:STANDARD
TZOFFSETFROM:+0200
TZOFFSETTO:+0100
TZNAME:CET
DTSTART:20221030T010000
END:STANDARD
BEGIN:DAYLIGHT
TZOFFSETFROM:+0100
TZOFFSETTO:+0200
TZNAME:CEST
DTSTART:20230326T010000
END:DAYLIGHT
BEGIN:STANDARD
TZOFFSETFROM:+0200
TZOFFSETTO:+0100
TZNAME:CET
DTSTART:20231029T010000
END:STANDARD
END:VTIMEZONE
BEGIN:VEVENT
DTSTART;TZID=Europe/Berlin:20220503T140000
DTEND;TZID=Europe/Berlin:20220503T180000
DTSTAMP:20260419T204756
CREATED:20220318T202339Z
LAST-MODIFIED:20220327T142636Z
UID:1844-1651586400-1651600800@ag-landeskunde-oberrhein.de
SUMMARY:Fragen an das Mittelalter - Gerd Tellenbach und die Wirkung des Freiburger Arbeitskreises
DESCRIPTION:Colloquium zum Gedenken an Hansmartin Schwarzmaier (3. Mai 1932 – 30. Mai 2021) \ngemeinsam mit der Kommission für geschichtliche Landeskunde in Baden-Württemberg und dem Förderverein des Generallandesarchivs Karlsruhe \nProf. Dr. Thomas Zotz\, Freiburg\nHansmartin Schwarzmaier im Schülerkreis Gerd Tellenbachs \nDr. Denis Drumm\, Tübingen\nKloster Hirsau und die Landesgeschichte – Zwischen Musterexempel und moderner Dekonstruktion \nProf. Dr. Julia Burkhardt\, München\n„Wertlose Geschichten und fades Latein“? Neue Perspektiven auf Exempelsammlungen aus mittelalterlichen Klöstern
URL:https://ag-landeskunde-oberrhein.de/event/fragen-an-das-mittelalter/
LOCATION:Generallandesarchiv Karlsruhe\, Nördl. Hildapromenade 3\, Karlsruhe\, 76133\, Deutschland
CATEGORIES:2022,Kolloquium
END:VEVENT
BEGIN:VEVENT
DTSTART;TZID=Europe/Berlin:20220513T190000
DTEND;TZID=Europe/Berlin:20220513T210000
DTSTAMP:20260419T204756
CREATED:20220318T202629Z
LAST-MODIFIED:20220503T132016Z
UID:1848-1652468400-1652475600@ag-landeskunde-oberrhein.de
SUMMARY:"Durlachs bittere Wittwen- und Waysen-Thränen" - Städte mit Residenzverlust im 18. Jahrhundert am Beispiel von Durlach\, Barby und Wolfenbüttel
DESCRIPTION:Sebastian Mönnich M.A.\, Braunschweig\nanschließend Jahresmitgliederversammlung \, dazu ergeht besondere Einladung \n 
URL:https://ag-landeskunde-oberrhein.de/event/durlachs-bittere-wittwen-und-waysen-thraenen/
LOCATION:Generallandesarchiv Karlsruhe\, Nördl. Hildapromenade 3\, Karlsruhe\, 76133\, Deutschland
CATEGORIES:2022,Mitgliederversammlung,Vortrag
ATTACH;FMTTYPE=image/jpeg:https://ag-landeskunde-oberrhein.de/wp-content/uploads/2022/03/Moennich-Plakat-e1651584005415.jpeg
END:VEVENT
END:VCALENDAR