BEGIN:VCALENDAR
VERSION:2.0
PRODID:-//AG geschichtliche Landeskunde am Oberrhein - ECPv6.15.20//NONSGML v1.0//EN
CALSCALE:GREGORIAN
METHOD:PUBLISH
X-ORIGINAL-URL:https://ag-landeskunde-oberrhein.de
X-WR-CALDESC:Veranstaltungen für AG geschichtliche Landeskunde am Oberrhein
REFRESH-INTERVAL;VALUE=DURATION:PT1H
X-Robots-Tag:noindex
X-PUBLISHED-TTL:PT1H
BEGIN:VTIMEZONE
TZID:Europe/Berlin
BEGIN:DAYLIGHT
TZOFFSETFROM:+0100
TZOFFSETTO:+0200
TZNAME:CEST
DTSTART:20210328T010000
END:DAYLIGHT
BEGIN:STANDARD
TZOFFSETFROM:+0200
TZOFFSETTO:+0100
TZNAME:CET
DTSTART:20211031T010000
END:STANDARD
BEGIN:DAYLIGHT
TZOFFSETFROM:+0100
TZOFFSETTO:+0200
TZNAME:CEST
DTSTART:20220327T010000
END:DAYLIGHT
BEGIN:STANDARD
TZOFFSETFROM:+0200
TZOFFSETTO:+0100
TZNAME:CET
DTSTART:20221030T010000
END:STANDARD
BEGIN:DAYLIGHT
TZOFFSETFROM:+0100
TZOFFSETTO:+0200
TZNAME:CEST
DTSTART:20230326T010000
END:DAYLIGHT
BEGIN:STANDARD
TZOFFSETFROM:+0200
TZOFFSETTO:+0100
TZNAME:CET
DTSTART:20231029T010000
END:STANDARD
END:VTIMEZONE
BEGIN:VEVENT
DTSTART;TZID=Europe/Berlin:20220218T160000
DTEND;TZID=Europe/Berlin:20220218T190000
DTSTAMP:20260420T024515
CREATED:20220204T192435Z
LAST-MODIFIED:20220224T112802Z
UID:780-1645200000-1645210800@ag-landeskunde-oberrhein.de
SUMMARY:Klosterwelten am Oberrhein - Vorüberlegungen zum Badischen Klosterbuch
DESCRIPTION:Dazu ergeht besondere Einladung
URL:https://ag-landeskunde-oberrhein.de/event/klosterwelten-am-oberrhein/
LOCATION:Forum Landesgeschichte
CATEGORIES:2021-2022,Vortrag
ATTACH;FMTTYPE=image/jpeg:https://ag-landeskunde-oberrhein.de/wp-content/uploads/2022/02/Badisches_Klosterbuch.jpg
END:VEVENT
BEGIN:VEVENT
DTSTART;TZID=Europe/Berlin:20220224T190000
DTEND;TZID=Europe/Berlin:20220224T210000
DTSTAMP:20260420T024515
CREATED:20220204T184006Z
LAST-MODIFIED:20220224T111200Z
UID:741-1645729200-1645736400@ag-landeskunde-oberrhein.de
SUMMARY:Christoph II. von Baden-Rodemachern und Cecilia Wasa – ein ortloses Leben mit Anspruch
DESCRIPTION:Prof. Dr. Ralph Tuchtenhagen\, Berlin \nSondertermin\, diesmal Donnerstags! \nAufgrund einer technischen Störung konnte der Vortrag am 14.1. nicht stattfinden und wird heute wiederholt. \nLink zur Online-Veranstaltung \nDen Veranstaltungslink und technische Hinweise finden Sie auch in dieser Einladung
URL:https://ag-landeskunde-oberrhein.de/event/christoph-ii-von-baden-rodemachern-und-cecilia-wasa/
CATEGORIES:2021-2022,Vortrag
ATTACH;FMTTYPE=image/jpeg:https://ag-landeskunde-oberrhein.de/wp-content/uploads/2022/02/Plakat_Tuchtenhagen-e1645358663171.jpg
END:VEVENT
END:VCALENDAR