BEGIN:VCALENDAR
VERSION:2.0
PRODID:-//AG geschichtliche Landeskunde am Oberrhein - ECPv6.15.20//NONSGML v1.0//EN
CALSCALE:GREGORIAN
METHOD:PUBLISH
X-ORIGINAL-URL:https://ag-landeskunde-oberrhein.de
X-WR-CALDESC:Veranstaltungen für AG geschichtliche Landeskunde am Oberrhein
REFRESH-INTERVAL;VALUE=DURATION:PT1H
X-Robots-Tag:noindex
X-PUBLISHED-TTL:PT1H
BEGIN:VTIMEZONE
TZID:Europe/Berlin
BEGIN:DAYLIGHT
TZOFFSETFROM:+0100
TZOFFSETTO:+0200
TZNAME:CEST
DTSTART:20210328T010000
END:DAYLIGHT
BEGIN:STANDARD
TZOFFSETFROM:+0200
TZOFFSETTO:+0100
TZNAME:CET
DTSTART:20211031T010000
END:STANDARD
BEGIN:DAYLIGHT
TZOFFSETFROM:+0100
TZOFFSETTO:+0200
TZNAME:CEST
DTSTART:20220327T010000
END:DAYLIGHT
BEGIN:STANDARD
TZOFFSETFROM:+0200
TZOFFSETTO:+0100
TZNAME:CET
DTSTART:20221030T010000
END:STANDARD
BEGIN:DAYLIGHT
TZOFFSETFROM:+0100
TZOFFSETTO:+0200
TZNAME:CEST
DTSTART:20230326T010000
END:DAYLIGHT
BEGIN:STANDARD
TZOFFSETFROM:+0200
TZOFFSETTO:+0100
TZNAME:CET
DTSTART:20231029T010000
END:STANDARD
END:VTIMEZONE
BEGIN:VEVENT
DTSTART;TZID=Europe/Berlin:20220124T160000
DTEND;TZID=Europe/Berlin:20220124T190000
DTSTAMP:20260420T044834
CREATED:20220224T155018Z
LAST-MODIFIED:20220224T155509Z
UID:1480-1643040000-1643050800@ag-landeskunde-oberrhein.de
SUMMARY:Lehnsverhältnisse im Spätmittelalter: Formen und Wirkung
DESCRIPTION:Einführung: Prof. Dr. Kurt Andermann\, Karlsruhe \nBarbara Frenk\, Heidelberg\nVon Lehen und Wappen auf Pergament. Lehnbücher und ihre Nutzungskontexte im Spätmittelalter \nProf. Dr. Harald Derschka\, Konstanz\nDie Abtei Reichenau und ihre Lehenleute: Ritter\, Bauern\, Spekulanten \nStefan Bröhl\, Heidelberg\nSchedigtt Ihn alle tag dann die Bergstraß was noch ihn des stieffts handt. Niederadel im Raum Bergstraße-Odenwald zwischen Kurpfalz und Kurmainz
URL:https://ag-landeskunde-oberrhein.de/event/lehnsverhaeltnisse-im-spaetmittelalter/
LOCATION:Forum Landesgeschichte
CATEGORIES:2019-2020,Vortrag
ATTACH;FMTTYPE=image/jpeg:https://ag-landeskunde-oberrhein.de/wp-content/uploads/2022/02/Plakat_Lehnsver-e1645718105755.jpeg
END:VEVENT
END:VCALENDAR