BEGIN:VCALENDAR
VERSION:2.0
PRODID:-//AG geschichtliche Landeskunde am Oberrhein - ECPv6.15.20//NONSGML v1.0//EN
CALSCALE:GREGORIAN
METHOD:PUBLISH
X-WR-CALNAME:AG geschichtliche Landeskunde am Oberrhein
X-ORIGINAL-URL:https://ag-landeskunde-oberrhein.de
X-WR-CALDESC:Veranstaltungen für AG geschichtliche Landeskunde am Oberrhein
REFRESH-INTERVAL;VALUE=DURATION:PT1H
X-Robots-Tag:noindex
X-PUBLISHED-TTL:PT1H
BEGIN:VTIMEZONE
TZID:Europe/Berlin
BEGIN:DAYLIGHT
TZOFFSETFROM:+0100
TZOFFSETTO:+0200
TZNAME:CEST
DTSTART:20200329T010000
END:DAYLIGHT
BEGIN:STANDARD
TZOFFSETFROM:+0200
TZOFFSETTO:+0100
TZNAME:CET
DTSTART:20201025T010000
END:STANDARD
BEGIN:DAYLIGHT
TZOFFSETFROM:+0100
TZOFFSETTO:+0200
TZNAME:CEST
DTSTART:20210328T010000
END:DAYLIGHT
BEGIN:STANDARD
TZOFFSETFROM:+0200
TZOFFSETTO:+0100
TZNAME:CET
DTSTART:20211031T010000
END:STANDARD
BEGIN:DAYLIGHT
TZOFFSETFROM:+0100
TZOFFSETTO:+0200
TZNAME:CEST
DTSTART:20220327T010000
END:DAYLIGHT
BEGIN:STANDARD
TZOFFSETFROM:+0200
TZOFFSETTO:+0100
TZNAME:CET
DTSTART:20221030T010000
END:STANDARD
END:VTIMEZONE
BEGIN:VEVENT
DTSTART;TZID=Europe/Berlin:20211126T190000
DTEND;TZID=Europe/Berlin:20211126T210000
DTSTAMP:20260420T084156
CREATED:20220212T192256Z
LAST-MODIFIED:20220224T111115Z
UID:1053-1637953200-1637960400@ag-landeskunde-oberrhein.de
SUMMARY:The Achilles' heel of German Catholicism. The catholic-liberal subculture in Grossschwaben 1860s-1933
DESCRIPTION:Prof. Dr. Oded Heilbronner\, Jerusalem \nAufgrund der aktuellen Pandemie-Situation wird Vortrag und Diskussion rein virtuell stattfinden. \nLink zur Online-Veranstaltung \nDen Online-Link zur Veranstaltung und technische Hinweise finden Sie auch in dieser Einladung
URL:https://ag-landeskunde-oberrhein.de/event/the-achilles-heel-of-german-catholicism/
CATEGORIES:2021-2022,Vortrag
ATTACH;FMTTYPE=image/png:https://ag-landeskunde-oberrhein.de/wp-content/uploads/2022/02/Heilbronner_Plakat3.png
END:VEVENT
END:VCALENDAR