BEGIN:VCALENDAR
VERSION:2.0
PRODID:-//AG geschichtliche Landeskunde am Oberrhein - ECPv6.15.20//NONSGML v1.0//EN
CALSCALE:GREGORIAN
METHOD:PUBLISH
X-WR-CALNAME:AG geschichtliche Landeskunde am Oberrhein
X-ORIGINAL-URL:https://ag-landeskunde-oberrhein.de
X-WR-CALDESC:Veranstaltungen für AG geschichtliche Landeskunde am Oberrhein
REFRESH-INTERVAL;VALUE=DURATION:PT1H
X-Robots-Tag:noindex
X-PUBLISHED-TTL:PT1H
BEGIN:VTIMEZONE
TZID:Europe/Berlin
BEGIN:DAYLIGHT
TZOFFSETFROM:+0100
TZOFFSETTO:+0200
TZNAME:CEST
DTSTART:20200329T010000
END:DAYLIGHT
BEGIN:STANDARD
TZOFFSETFROM:+0200
TZOFFSETTO:+0100
TZNAME:CET
DTSTART:20201025T010000
END:STANDARD
BEGIN:DAYLIGHT
TZOFFSETFROM:+0100
TZOFFSETTO:+0200
TZNAME:CEST
DTSTART:20210328T010000
END:DAYLIGHT
BEGIN:STANDARD
TZOFFSETFROM:+0200
TZOFFSETTO:+0100
TZNAME:CET
DTSTART:20211031T010000
END:STANDARD
BEGIN:DAYLIGHT
TZOFFSETFROM:+0100
TZOFFSETTO:+0200
TZNAME:CEST
DTSTART:20220327T010000
END:DAYLIGHT
BEGIN:STANDARD
TZOFFSETFROM:+0200
TZOFFSETTO:+0100
TZNAME:CET
DTSTART:20221030T010000
END:STANDARD
END:VTIMEZONE
BEGIN:VEVENT
DTSTART;TZID=Europe/Berlin:20210710T190000
DTEND;TZID=Europe/Berlin:20210710T210000
DTSTAMP:20260422T164355
CREATED:20220212T202655Z
LAST-MODIFIED:20220224T111015Z
UID:1084-1625943600-1625950800@ag-landeskunde-oberrhein.de
SUMMARY:Historismus und Denkmalpflege im Kaiserreich (1871-1914)
DESCRIPTION:Tagung der\nArbeitsgemeinschaft für geschichtliche Landeskunde am Oberrhein und des\nHistorischen Vereins von Mittelbaden \nTagungsort: Schloss Altdorf bei Ettenheim \nLink zum Tagungsprogramm \nAnmeldung bis 2.7.2021 (30 Personen). \nCorona-bedingt ist die Zahl der Sitzplätze in der Altdorfer Bibliothek stark reduziert. Zur Zeit sind alle Plätze durch Anmeldungen belegt. Wir führen jedoch eine Warteliste und informieren über freiwerdende Plätze.
URL:https://ag-landeskunde-oberrhein.de/event/historismus-und-denkmalpflege-im-kaiserreich/
LOCATION:Schloss Altdorf bei Ettenheim
CATEGORIES:2021,Tagung
ATTACH;FMTTYPE=image/png:https://ag-landeskunde-oberrhein.de/wp-content/uploads/2022/02/Tagung_Altdorf_2021_Einladung.png
END:VEVENT
END:VCALENDAR