BEGIN:VCALENDAR
VERSION:2.0
PRODID:-//AG geschichtliche Landeskunde am Oberrhein - ECPv6.15.20//NONSGML v1.0//EN
CALSCALE:GREGORIAN
METHOD:PUBLISH
X-ORIGINAL-URL:https://ag-landeskunde-oberrhein.de
X-WR-CALDESC:Veranstaltungen für AG geschichtliche Landeskunde am Oberrhein
REFRESH-INTERVAL;VALUE=DURATION:PT1H
X-Robots-Tag:noindex
X-PUBLISHED-TTL:PT1H
BEGIN:VTIMEZONE
TZID:Europe/Berlin
BEGIN:DAYLIGHT
TZOFFSETFROM:+0100
TZOFFSETTO:+0200
TZNAME:CEST
DTSTART:20200329T010000
END:DAYLIGHT
BEGIN:STANDARD
TZOFFSETFROM:+0200
TZOFFSETTO:+0100
TZNAME:CET
DTSTART:20201025T010000
END:STANDARD
BEGIN:DAYLIGHT
TZOFFSETFROM:+0100
TZOFFSETTO:+0200
TZNAME:CEST
DTSTART:20210328T010000
END:DAYLIGHT
BEGIN:STANDARD
TZOFFSETFROM:+0200
TZOFFSETTO:+0100
TZNAME:CET
DTSTART:20211031T010000
END:STANDARD
BEGIN:DAYLIGHT
TZOFFSETFROM:+0100
TZOFFSETTO:+0200
TZNAME:CEST
DTSTART:20220327T010000
END:DAYLIGHT
BEGIN:STANDARD
TZOFFSETFROM:+0200
TZOFFSETTO:+0100
TZNAME:CET
DTSTART:20221030T010000
END:STANDARD
END:VTIMEZONE
BEGIN:VEVENT
DTSTART;TZID=Europe/Berlin:20210521T160000
DTEND;TZID=Europe/Berlin:20210521T190000
DTSTAMP:20260422T195934
CREATED:20220213T143252Z
LAST-MODIFIED:20220224T110940Z
UID:1095-1621612800-1621623600@ag-landeskunde-oberrhein.de
SUMMARY:Das Karlsruher Polytechnikum und seine ersten Schüler - Zur Entstehungsgeschichte einer technischen Studentenschaft
DESCRIPTION:Prof. Dr. Marian Füssel\, Göttingen\nForschungsfragen zu Studentenkulturen (ca. 1800-1850)\nDr. Anton F. Guhl\, Karlsruhe\nZur Gründung der Polytechnischen Schule in Karlsruhe 1825 \nNicolas Novak und Martin Ullman\, Karlsruhe\nHerkunft\, Mobilität\, Bekenntnis. Sozialgeschichtliche Perspektiven auf die ersten Karlsruher Polytechniker \nNils Osenberg und Alissa Schneider\, Karlsruhe\nUnterricht\, Wissen\, Disziplin. Kulturgeschichtliche Perspektiven auf die Karlsruher Polytechniker \nForum Landesgeschichte\, gemeinsam mit dem Generallandesarchiv \nBitte anmelden unter:  krimm(at)ag-landeskunde-oberrhein.de
URL:https://ag-landeskunde-oberrhein.de/event/das-karlsruher-polytechnikum-und-seine-ersten-schueler/
LOCATION:Online
CATEGORIES:2021,Vortrag
END:VEVENT
END:VCALENDAR