BEGIN:VCALENDAR
VERSION:2.0
PRODID:-//AG geschichtliche Landeskunde am Oberrhein - ECPv6.15.20//NONSGML v1.0//EN
CALSCALE:GREGORIAN
METHOD:PUBLISH
X-ORIGINAL-URL:https://ag-landeskunde-oberrhein.de
X-WR-CALDESC:Veranstaltungen für AG geschichtliche Landeskunde am Oberrhein
REFRESH-INTERVAL;VALUE=DURATION:PT1H
X-Robots-Tag:noindex
X-PUBLISHED-TTL:PT1H
BEGIN:VTIMEZONE
TZID:Europe/Berlin
BEGIN:DAYLIGHT
TZOFFSETFROM:+0100
TZOFFSETTO:+0200
TZNAME:CEST
DTSTART:20200329T010000
END:DAYLIGHT
BEGIN:STANDARD
TZOFFSETFROM:+0200
TZOFFSETTO:+0100
TZNAME:CET
DTSTART:20201025T010000
END:STANDARD
BEGIN:DAYLIGHT
TZOFFSETFROM:+0100
TZOFFSETTO:+0200
TZNAME:CEST
DTSTART:20210328T010000
END:DAYLIGHT
BEGIN:STANDARD
TZOFFSETFROM:+0200
TZOFFSETTO:+0100
TZNAME:CET
DTSTART:20211031T010000
END:STANDARD
BEGIN:DAYLIGHT
TZOFFSETFROM:+0100
TZOFFSETTO:+0200
TZNAME:CEST
DTSTART:20220327T010000
END:DAYLIGHT
BEGIN:STANDARD
TZOFFSETFROM:+0200
TZOFFSETTO:+0100
TZNAME:CET
DTSTART:20221030T010000
END:STANDARD
END:VTIMEZONE
BEGIN:VEVENT
DTSTART;TZID=Europe/Berlin:20210205T160000
DTEND;TZID=Europe/Berlin:20210205T190000
DTSTAMP:20260423T005914
CREATED:20220224T111307Z
LAST-MODIFIED:20220224T112403Z
UID:1411-1612540800-1612551600@ag-landeskunde-oberrhein.de
SUMMARY:Nach dem Krieg. Der Umgang mit dem NS-Erbe im Südwesten
DESCRIPTION:Dr. Alexander Klimo\, Heidelberg\nVergangenheitspolitik der neuen Regierungen und Landtage 1945-1952\n\nDr. Sebastian Rojek\, Stuttgart\nGesellschaftsgeschichte der Entnazifizierung\n\nViktor Fichtenau\, Heidelberg\nPersonelle Kontinuität der höheren Beamtenschaft nach 1945\n\n\n\n\nAnmeldung zur online-Veranstaltung per EMail:  glakarlsruhe@la-bw.de
URL:https://ag-landeskunde-oberrhein.de/event/nach-dem-krieg/
CATEGORIES:2020-2021,Vortrag
END:VEVENT
END:VCALENDAR