BEGIN:VCALENDAR
VERSION:2.0
PRODID:-//AG geschichtliche Landeskunde am Oberrhein - ECPv6.15.20//NONSGML v1.0//EN
CALSCALE:GREGORIAN
METHOD:PUBLISH
X-WR-CALNAME:AG geschichtliche Landeskunde am Oberrhein
X-ORIGINAL-URL:https://ag-landeskunde-oberrhein.de
X-WR-CALDESC:Veranstaltungen für AG geschichtliche Landeskunde am Oberrhein
REFRESH-INTERVAL;VALUE=DURATION:PT1H
X-Robots-Tag:noindex
X-PUBLISHED-TTL:PT1H
BEGIN:VTIMEZONE
TZID:Europe/Berlin
BEGIN:DAYLIGHT
TZOFFSETFROM:+0100
TZOFFSETTO:+0200
TZNAME:CEST
DTSTART:20200329T010000
END:DAYLIGHT
BEGIN:STANDARD
TZOFFSETFROM:+0200
TZOFFSETTO:+0100
TZNAME:CET
DTSTART:20201025T010000
END:STANDARD
BEGIN:DAYLIGHT
TZOFFSETFROM:+0100
TZOFFSETTO:+0200
TZNAME:CEST
DTSTART:20210328T010000
END:DAYLIGHT
BEGIN:STANDARD
TZOFFSETFROM:+0200
TZOFFSETTO:+0100
TZNAME:CET
DTSTART:20211031T010000
END:STANDARD
BEGIN:DAYLIGHT
TZOFFSETFROM:+0100
TZOFFSETTO:+0200
TZNAME:CEST
DTSTART:20220327T010000
END:DAYLIGHT
BEGIN:STANDARD
TZOFFSETFROM:+0200
TZOFFSETTO:+0100
TZNAME:CET
DTSTART:20221030T010000
END:STANDARD
END:VTIMEZONE
BEGIN:VEVENT
DTSTART;TZID=Europe/Berlin:20210115T190000
DTEND;TZID=Europe/Berlin:20210115T210000
DTSTAMP:20260423T030125
CREATED:20220224T112917Z
LAST-MODIFIED:20220224T113302Z
UID:1422-1610737200-1610744400@ag-landeskunde-oberrhein.de
SUMMARY:Was kann eigentlich ein Fürst? Hochadlige Erziehung und Ausbildung im deutschen Südwesten um 1500
DESCRIPTION:Dr. Benjamin Müsegades\, Heidelberg\n\n\n\nÄnderung: Wegen der Beschränkungen durch die aktuelle Infektionslage muß der Vortrag am 15.01.2021 leider abgesagt werden ! Er wird zu einem späteren\, noch bekanntzugebenden Termin nachgeholt!
URL:https://ag-landeskunde-oberrhein.de/event/was-kann-eigentlich-ein-fuerst2/
CATEGORIES:2020-2021,Vortrag
END:VEVENT
END:VCALENDAR