BEGIN:VCALENDAR
VERSION:2.0
PRODID:-//AG geschichtliche Landeskunde am Oberrhein - ECPv6.15.20//NONSGML v1.0//EN
CALSCALE:GREGORIAN
METHOD:PUBLISH
X-ORIGINAL-URL:https://ag-landeskunde-oberrhein.de
X-WR-CALDESC:Veranstaltungen für AG geschichtliche Landeskunde am Oberrhein
REFRESH-INTERVAL;VALUE=DURATION:PT1H
X-Robots-Tag:noindex
X-PUBLISHED-TTL:PT1H
BEGIN:VTIMEZONE
TZID:Europe/Berlin
BEGIN:DAYLIGHT
TZOFFSETFROM:+0100
TZOFFSETTO:+0200
TZNAME:CEST
DTSTART:20190331T010000
END:DAYLIGHT
BEGIN:STANDARD
TZOFFSETFROM:+0200
TZOFFSETTO:+0100
TZNAME:CET
DTSTART:20191027T010000
END:STANDARD
BEGIN:DAYLIGHT
TZOFFSETFROM:+0100
TZOFFSETTO:+0200
TZNAME:CEST
DTSTART:20200329T010000
END:DAYLIGHT
BEGIN:STANDARD
TZOFFSETFROM:+0200
TZOFFSETTO:+0100
TZNAME:CET
DTSTART:20201025T010000
END:STANDARD
BEGIN:DAYLIGHT
TZOFFSETFROM:+0100
TZOFFSETTO:+0200
TZNAME:CEST
DTSTART:20210328T010000
END:DAYLIGHT
BEGIN:STANDARD
TZOFFSETFROM:+0200
TZOFFSETTO:+0100
TZNAME:CET
DTSTART:20211031T010000
END:STANDARD
END:VTIMEZONE
BEGIN:VEVENT
DTSTART;TZID=Europe/Berlin:20201009T190000
DTEND;TZID=Europe/Berlin:20201009T210000
DTSTAMP:20260423T074234
CREATED:20220224T114038Z
LAST-MODIFIED:20220224T114046Z
UID:1432-1602270000-1602277200@ag-landeskunde-oberrhein.de
SUMMARY:Leistung und Ehre – Neuer Adel und neuadelige Etablierung im 17. und frühen 18. Jh. Das Beispiel der Familie von Edelsheim in der Reichsgrafschaft Hanau
DESCRIPTION:Simon Schmitz\, Andernach
URL:https://ag-landeskunde-oberrhein.de/event/leistung-und-ehre/
LOCATION:Generallandesarchiv Karlsruhe\, Nördl. Hildapromenade 3\, Karlsruhe\, 76133\, Deutschland
CATEGORIES:2020-2021,Vortrag
ATTACH;FMTTYPE=image/jpeg:https://ag-landeskunde-oberrhein.de/wp-content/uploads/2022/02/Schmitz_Plakat.jpeg
END:VEVENT
END:VCALENDAR