BEGIN:VCALENDAR
VERSION:2.0
PRODID:-//AG geschichtliche Landeskunde am Oberrhein - ECPv6.15.20//NONSGML v1.0//EN
CALSCALE:GREGORIAN
METHOD:PUBLISH
X-ORIGINAL-URL:https://ag-landeskunde-oberrhein.de
X-WR-CALDESC:Veranstaltungen für AG geschichtliche Landeskunde am Oberrhein
REFRESH-INTERVAL;VALUE=DURATION:PT1H
X-Robots-Tag:noindex
X-PUBLISHED-TTL:PT1H
BEGIN:VTIMEZONE
TZID:Europe/Berlin
BEGIN:DAYLIGHT
TZOFFSETFROM:+0100
TZOFFSETTO:+0200
TZNAME:CEST
DTSTART:20190331T010000
END:DAYLIGHT
BEGIN:STANDARD
TZOFFSETFROM:+0200
TZOFFSETTO:+0100
TZNAME:CET
DTSTART:20191027T010000
END:STANDARD
BEGIN:DAYLIGHT
TZOFFSETFROM:+0100
TZOFFSETTO:+0200
TZNAME:CEST
DTSTART:20200329T010000
END:DAYLIGHT
BEGIN:STANDARD
TZOFFSETFROM:+0200
TZOFFSETTO:+0100
TZNAME:CET
DTSTART:20201025T010000
END:STANDARD
BEGIN:DAYLIGHT
TZOFFSETFROM:+0100
TZOFFSETTO:+0200
TZNAME:CEST
DTSTART:20210328T010000
END:DAYLIGHT
BEGIN:STANDARD
TZOFFSETFROM:+0200
TZOFFSETTO:+0100
TZNAME:CET
DTSTART:20211031T010000
END:STANDARD
END:VTIMEZONE
BEGIN:VEVENT
DTSTART;TZID=Europe/Berlin:20200619T190000
DTEND;TZID=Europe/Berlin:20200619T210000
DTSTAMP:20260423T140655
CREATED:20220224T153030Z
LAST-MODIFIED:20220224T153554Z
UID:1458-1592593200-1592600400@ag-landeskunde-oberrhein.de
SUMMARY:Leistung und Ehre – Neuer Adel und neuadelige Etablierung im 17. und frühen 18. Jh. Das Beispiel der Familie von Edelsheim in der Reichsgrafschaft Hanau
DESCRIPTION:Simon Schmitz\, Andernach \nÄnderung: Wegen der aktuellen Lage muß der Vortrag am 19.06. abgesagt werden !
URL:https://ag-landeskunde-oberrhein.de/event/leistung-und-ehre-2/
CATEGORIES:2020,Vortrag
END:VEVENT
BEGIN:VEVENT
DTSTART;VALUE=DATE:20200627
DTEND;VALUE=DATE:20200628
DTSTAMP:20260423T140655
CREATED:20220224T152423Z
LAST-MODIFIED:20220224T152831Z
UID:1450-1593216000-1593302399@ag-landeskunde-oberrhein.de
SUMMARY:Spuren der Herrschaft von Schauenburg: Kloster Allerheiligen\, Burg Schauenburg\, Schloss Gaisbach und Kapelle in Lautenbach
DESCRIPTION:Exkursion \nStammburg\, Talschloss\, Hauskloster und Grablege – an vier Orten am Ausgang des Renchtals lässt sich die Geschichte der Herren von Schauenburg anschaulich vergegenwärtigen. Die Führung der Exkursion liegt bei Prof. Dr. Jürgen Krüger / Karlsruhe. \nAbfahrt vor dem Generallandesarchiv\, Nördl. Hildapromenade 3\, 8h\, Hauptbahnhof Ausgang Süd 8h15 \nÄnderung: Wegen der aktuellen Lage muß die Exkursion am 27.06. abgesagt werden !
URL:https://ag-landeskunde-oberrhein.de/event/spuren-der-herrschaft-von-schauenburg/
LOCATION:Exkursion
CATEGORIES:2020,Exkursion
END:VEVENT
END:VCALENDAR