BEGIN:VCALENDAR
VERSION:2.0
PRODID:-//AG geschichtliche Landeskunde am Oberrhein - ECPv6.15.20//NONSGML v1.0//EN
CALSCALE:GREGORIAN
METHOD:PUBLISH
X-ORIGINAL-URL:https://ag-landeskunde-oberrhein.de
X-WR-CALDESC:Veranstaltungen für AG geschichtliche Landeskunde am Oberrhein
REFRESH-INTERVAL;VALUE=DURATION:PT1H
X-Robots-Tag:noindex
X-PUBLISHED-TTL:PT1H
BEGIN:VTIMEZONE
TZID:Europe/Berlin
BEGIN:DAYLIGHT
TZOFFSETFROM:+0100
TZOFFSETTO:+0200
TZNAME:CEST
DTSTART:20190331T010000
END:DAYLIGHT
BEGIN:STANDARD
TZOFFSETFROM:+0200
TZOFFSETTO:+0100
TZNAME:CET
DTSTART:20191027T010000
END:STANDARD
BEGIN:DAYLIGHT
TZOFFSETFROM:+0100
TZOFFSETTO:+0200
TZNAME:CEST
DTSTART:20200329T010000
END:DAYLIGHT
BEGIN:STANDARD
TZOFFSETFROM:+0200
TZOFFSETTO:+0100
TZNAME:CET
DTSTART:20201025T010000
END:STANDARD
BEGIN:DAYLIGHT
TZOFFSETFROM:+0100
TZOFFSETTO:+0200
TZNAME:CEST
DTSTART:20210328T010000
END:DAYLIGHT
BEGIN:STANDARD
TZOFFSETFROM:+0200
TZOFFSETTO:+0100
TZNAME:CET
DTSTART:20211031T010000
END:STANDARD
END:VTIMEZONE
BEGIN:VEVENT
DTSTART;TZID=Europe/Berlin:20200320T190000
DTEND;TZID=Europe/Berlin:20200320T210000
DTSTAMP:20260423T185935
CREATED:20220224T154201Z
LAST-MODIFIED:20220224T154700Z
UID:1472-1584730800-1584738000@ag-landeskunde-oberrhein.de
SUMMARY:Wie die Pfälzer Pfälzer wurden. Die Bildung der pfälzischen Identität im Bayerischen Königreich
DESCRIPTION:Prof. Dr. Karsten Ruppert\, Römerberg \nzugleich Jahresmitgliederversammlung \nEinladung/Vortrag/Tagesordnung \nÄnderung: Vortrag und Versammlung am 20.03. werden abgesagt\, ein Nachhol-Termin wird bekannt gegeben werden !
URL:https://ag-landeskunde-oberrhein.de/event/wie-die-pfaelzer-pfaelzer-wurden-2/
CATEGORIES:2019-2020,Vortrag
ATTACH;FMTTYPE=image/jpeg:https://ag-landeskunde-oberrhein.de/wp-content/uploads/2022/02/Ruppert_Plakat-e1645717596161.jpeg
END:VEVENT
END:VCALENDAR