BEGIN:VCALENDAR
VERSION:2.0
PRODID:-//AG geschichtliche Landeskunde am Oberrhein - ECPv6.15.20//NONSGML v1.0//EN
CALSCALE:GREGORIAN
METHOD:PUBLISH
X-WR-CALNAME:AG geschichtliche Landeskunde am Oberrhein
X-ORIGINAL-URL:https://ag-landeskunde-oberrhein.de
X-WR-CALDESC:Veranstaltungen für AG geschichtliche Landeskunde am Oberrhein
REFRESH-INTERVAL;VALUE=DURATION:PT1H
X-Robots-Tag:noindex
X-PUBLISHED-TTL:PT1H
BEGIN:VTIMEZONE
TZID:Europe/Berlin
BEGIN:DAYLIGHT
TZOFFSETFROM:+0100
TZOFFSETTO:+0200
TZNAME:CEST
DTSTART:20180325T010000
END:DAYLIGHT
BEGIN:STANDARD
TZOFFSETFROM:+0200
TZOFFSETTO:+0100
TZNAME:CET
DTSTART:20181028T010000
END:STANDARD
BEGIN:DAYLIGHT
TZOFFSETFROM:+0100
TZOFFSETTO:+0200
TZNAME:CEST
DTSTART:20190331T010000
END:DAYLIGHT
BEGIN:STANDARD
TZOFFSETFROM:+0200
TZOFFSETTO:+0100
TZNAME:CET
DTSTART:20191027T010000
END:STANDARD
BEGIN:DAYLIGHT
TZOFFSETFROM:+0100
TZOFFSETTO:+0200
TZNAME:CEST
DTSTART:20200329T010000
END:DAYLIGHT
BEGIN:STANDARD
TZOFFSETFROM:+0200
TZOFFSETTO:+0100
TZNAME:CET
DTSTART:20201025T010000
END:STANDARD
END:VTIMEZONE
BEGIN:VEVENT
DTSTART;TZID=Europe/Berlin:20191115T190000
DTEND;TZID=Europe/Berlin:20191115T210000
DTSTAMP:20260424T011357
CREATED:20220224T160132Z
LAST-MODIFIED:20220224T160207Z
UID:1489-1573844400-1573851600@ag-landeskunde-oberrhein.de
SUMMARY:Krank und alt? Infirmarien – zentrale Funktionsbauten im klösterlichen Alltag (am Beispiel der Zisterzienser)
DESCRIPTION:Dr. Gaby Lindenmann-Merz\, Karlsruhe \nDamit wird ein Aspekt des abendländischen Klosterbaus verfolgt\, der in der Lichtenthaler Zisterziensertagung dieses Frühjahrs gefehlt hatte. „Abendländisch“ ist durchaus wörtlich gemeint\, denn Frau Lindenmann-Merz rekonstruiert am Beispiel englischer und kontinentaler Zisterzen einen zentralen klösterlichen Funktionsbereich. Er ist baugeschichtlich viel weniger bekannt als etwa die Bauaufgaben von Kapitelsaal oder Refektorium. Die verschwundenen oder sichtbaren Spuren in Tennenbach\, Maulbronn oder Eberbach lassen sich so in einem größeren Kontext neu lesen.
URL:https://ag-landeskunde-oberrhein.de/event/krank-und-alt-infirmarien/
CATEGORIES:2019-2020,Vortrag
ATTACH;FMTTYPE=image/jpeg:https://ag-landeskunde-oberrhein.de/wp-content/uploads/2022/02/Lindenmann_Plakat-e1645718522637.jpeg
END:VEVENT
END:VCALENDAR