BEGIN:VCALENDAR
VERSION:2.0
PRODID:-//AG geschichtliche Landeskunde am Oberrhein - ECPv6.15.20//NONSGML v1.0//EN
CALSCALE:GREGORIAN
METHOD:PUBLISH
X-WR-CALNAME:AG geschichtliche Landeskunde am Oberrhein
X-ORIGINAL-URL:https://ag-landeskunde-oberrhein.de
X-WR-CALDESC:Veranstaltungen für AG geschichtliche Landeskunde am Oberrhein
REFRESH-INTERVAL;VALUE=DURATION:PT1H
X-Robots-Tag:noindex
X-PUBLISHED-TTL:PT1H
BEGIN:VTIMEZONE
TZID:Europe/Berlin
BEGIN:DAYLIGHT
TZOFFSETFROM:+0100
TZOFFSETTO:+0200
TZNAME:CEST
DTSTART:20180325T010000
END:DAYLIGHT
BEGIN:STANDARD
TZOFFSETFROM:+0200
TZOFFSETTO:+0100
TZNAME:CET
DTSTART:20181028T010000
END:STANDARD
BEGIN:DAYLIGHT
TZOFFSETFROM:+0100
TZOFFSETTO:+0200
TZNAME:CEST
DTSTART:20190331T010000
END:DAYLIGHT
BEGIN:STANDARD
TZOFFSETFROM:+0200
TZOFFSETTO:+0100
TZNAME:CET
DTSTART:20191027T010000
END:STANDARD
BEGIN:DAYLIGHT
TZOFFSETFROM:+0100
TZOFFSETTO:+0200
TZNAME:CEST
DTSTART:20200329T010000
END:DAYLIGHT
BEGIN:STANDARD
TZOFFSETFROM:+0200
TZOFFSETTO:+0100
TZNAME:CET
DTSTART:20201025T010000
END:STANDARD
END:VTIMEZONE
BEGIN:VEVENT
DTSTART;TZID=Europe/Berlin:20190503T160000
DTEND;TZID=Europe/Berlin:20190503T190000
DTSTAMP:20260424T231231
CREATED:20220225T160409Z
LAST-MODIFIED:20220225T160611Z
UID:1508-1556899200-1556910000@ag-landeskunde-oberrhein.de
SUMMARY:Was von Kurpfalz übrigblieb… Urkundensammlungen in Bibliotheken und Archiven
DESCRIPTION:Dr. Karlfriedrich Ohr\, Karlsruhe \nDr. Thorsten Huthwelker/ Florian Schreiber\, Heidelberg\nDie Urkunden des Heidelberger Universitätsarchivs – ein Sammelsurium unterschiedlicher Provenienzen \nDr. Uli Steiger\, Heidelberg\nUrkunden in einer Bibliothek? Die Sammlungen der Universitätsbibliothek Heidelberg: Geschichte – Bedeutung – Nutzung \nDr. Paul Warmbrunn\, Otterstadt\nSeit über zwei Jahrzehnten wieder am Oberrhein – der Gatterer-Apparat im Landesarchiv Speyer\, seine Vorgeschichte\, Erschließung und Nutzung
URL:https://ag-landeskunde-oberrhein.de/event/was-von-kurpfalz-uebrigblieb/
LOCATION:Forum Landesgeschichte
CATEGORIES:2019,Vortrag
ATTACH;FMTTYPE=image/jpeg:https://ag-landeskunde-oberrhein.de/wp-content/uploads/2022/02/Plakat_Was_von_kurpfalz-2-e1645805154304.jpeg
END:VEVENT
BEGIN:VEVENT
DTSTART;TZID=Europe/Berlin:20190524T190000
DTEND;TZID=Europe/Berlin:20190524T210000
DTSTAMP:20260424T231231
CREATED:20220225T155850Z
LAST-MODIFIED:20220225T155851Z
UID:1504-1558724400-1558731600@ag-landeskunde-oberrhein.de
SUMMARY:Die römische Basilika in Ladenburg\, ein neuer Rekonstruktionsvorschlag
DESCRIPTION:Dr. Karlfriedrich Ohr\, Karlsruhe \n 
URL:https://ag-landeskunde-oberrhein.de/event/die-roemische-basilika-in-ladenburg/
LOCATION:Generallandesarchiv Karlsruhe\, Nördl. Hildapromenade 3\, Karlsruhe\, 76133\, Deutschland
CATEGORIES:2019,Vortrag
ATTACH;FMTTYPE=image/jpeg:https://ag-landeskunde-oberrhein.de/wp-content/uploads/2022/02/OhrPlakat-e1645804708682.jpeg
END:VEVENT
END:VCALENDAR