BEGIN:VCALENDAR
VERSION:2.0
PRODID:-//AG geschichtliche Landeskunde am Oberrhein - ECPv6.15.20//NONSGML v1.0//EN
CALSCALE:GREGORIAN
METHOD:PUBLISH
X-ORIGINAL-URL:https://ag-landeskunde-oberrhein.de
X-WR-CALDESC:Veranstaltungen für AG geschichtliche Landeskunde am Oberrhein
REFRESH-INTERVAL;VALUE=DURATION:PT1H
X-Robots-Tag:noindex
X-PUBLISHED-TTL:PT1H
BEGIN:VTIMEZONE
TZID:Europe/Berlin
BEGIN:DAYLIGHT
TZOFFSETFROM:+0100
TZOFFSETTO:+0200
TZNAME:CEST
DTSTART:20180325T010000
END:DAYLIGHT
BEGIN:STANDARD
TZOFFSETFROM:+0200
TZOFFSETTO:+0100
TZNAME:CET
DTSTART:20181028T010000
END:STANDARD
BEGIN:DAYLIGHT
TZOFFSETFROM:+0100
TZOFFSETTO:+0200
TZNAME:CEST
DTSTART:20190331T010000
END:DAYLIGHT
BEGIN:STANDARD
TZOFFSETFROM:+0200
TZOFFSETTO:+0100
TZNAME:CET
DTSTART:20191027T010000
END:STANDARD
BEGIN:DAYLIGHT
TZOFFSETFROM:+0100
TZOFFSETTO:+0200
TZNAME:CEST
DTSTART:20200329T010000
END:DAYLIGHT
BEGIN:STANDARD
TZOFFSETFROM:+0200
TZOFFSETTO:+0100
TZNAME:CET
DTSTART:20201025T010000
END:STANDARD
END:VTIMEZONE
BEGIN:VEVENT
DTSTART;TZID=Europe/Berlin:20190222T190000
DTEND;TZID=Europe/Berlin:20190222T210000
DTSTAMP:20260425T042826
CREATED:20220225T172745Z
LAST-MODIFIED:20220225T173021Z
UID:1565-1550862000-1550869200@ag-landeskunde-oberrhein.de
SUMMARY:Formen der Schriftlichkeit im Mittelalter
DESCRIPTION:Sabine Strupp\, Freiburg\nDie Besucherlisten des Konstanzer Konzils (1414-1418) – ein Beitrag zur mittelalterlichen Statistik \nSarah Mammola\, Freiburg\nEin Wandel der Schriftlichkeit bei den Papsturkunden an die Freiburger Dominikaner? Ein Blick in den Archivbestand \nPatrizia Hartich\, Stuttgart\nVom registrieren und uffraumen. Reichsstädtische Stadtschreiber und die Kanzleiverwaltung im 15. Jahrhundert \n 
URL:https://ag-landeskunde-oberrhein.de/event/formen-der-schriftlichkeit-im-mittelalter/
LOCATION:Forum Landesgeschichte
CATEGORIES:2018-2019,Vortrag
ATTACH;FMTTYPE=image/jpeg:https://ag-landeskunde-oberrhein.de/wp-content/uploads/2022/02/Plakat_2019_02_22_Formen_der_schriftlichkeit-e1645807455960.jpg
END:VEVENT
END:VCALENDAR