BEGIN:VCALENDAR
VERSION:2.0
PRODID:-//AG geschichtliche Landeskunde am Oberrhein - ECPv6.15.20//NONSGML v1.0//EN
CALSCALE:GREGORIAN
METHOD:PUBLISH
X-WR-CALNAME:AG geschichtliche Landeskunde am Oberrhein
X-ORIGINAL-URL:https://ag-landeskunde-oberrhein.de
X-WR-CALDESC:Veranstaltungen für AG geschichtliche Landeskunde am Oberrhein
REFRESH-INTERVAL;VALUE=DURATION:PT1H
X-Robots-Tag:noindex
X-PUBLISHED-TTL:PT1H
BEGIN:VTIMEZONE
TZID:Europe/Berlin
BEGIN:DAYLIGHT
TZOFFSETFROM:+0100
TZOFFSETTO:+0200
TZNAME:CEST
DTSTART:20180325T010000
END:DAYLIGHT
BEGIN:STANDARD
TZOFFSETFROM:+0200
TZOFFSETTO:+0100
TZNAME:CET
DTSTART:20181028T010000
END:STANDARD
BEGIN:DAYLIGHT
TZOFFSETFROM:+0100
TZOFFSETTO:+0200
TZNAME:CEST
DTSTART:20190331T010000
END:DAYLIGHT
BEGIN:STANDARD
TZOFFSETFROM:+0200
TZOFFSETTO:+0100
TZNAME:CET
DTSTART:20191027T010000
END:STANDARD
BEGIN:DAYLIGHT
TZOFFSETFROM:+0100
TZOFFSETTO:+0200
TZNAME:CEST
DTSTART:20200329T010000
END:DAYLIGHT
BEGIN:STANDARD
TZOFFSETFROM:+0200
TZOFFSETTO:+0100
TZNAME:CET
DTSTART:20201025T010000
END:STANDARD
END:VTIMEZONE
BEGIN:VEVENT
DTSTART;TZID=Europe/Berlin:20190111T190000
DTEND;TZID=Europe/Berlin:20190111T210000
DTSTAMP:20260425T061057
CREATED:20220225T163828Z
LAST-MODIFIED:20220225T171723Z
UID:1538-1547233200-1547240400@ag-landeskunde-oberrhein.de
SUMMARY:Fürstliche Handlungsfelder im 13. Jahrhundert. Pfalzgraf Ludwig II. (1253-1294)
DESCRIPTION:Anuschka Holste-Massoth\, Heidelberg \n 
URL:https://ag-landeskunde-oberrhein.de/event/fuerstliche-handlungsfelder-im-13-jahrhundert/
LOCATION:Generallandesarchiv Karlsruhe\, Nördl. Hildapromenade 3\, Karlsruhe\, 76133\, Deutschland
CATEGORIES:2018-2019,Vortrag
END:VEVENT
BEGIN:VEVENT
DTSTART;TZID=Europe/Berlin:20190131T190000
DTEND;TZID=Europe/Berlin:20190131T210000
DTSTAMP:20260425T061057
CREATED:20220225T164257Z
LAST-MODIFIED:20220225T171124Z
UID:1541-1548961200-1548968400@ag-landeskunde-oberrhein.de
SUMMARY:Vorstellung von Band 37 der Oberrheinischen Studien
DESCRIPTION:VORTRAG\nDer Wandel der Karlsruher Hofbibliothek\nim Spiegel ihrer Architektur\nMit Dr. Ludger Syré \nBUCHVORSTELLUNG\nHerrschaftswissen. Bibliotheks- und Archivbauten im Alten Reich\nhg. von Konrad Krimm und Ludger Syré \nᐅ Veranstaltungsplakat
URL:https://ag-landeskunde-oberrhein.de/event/vorstellung-von-band-37/
LOCATION:Vortragssaal der Badischen Landesbibliothek
CATEGORIES:2018-2019,Vortrag
END:VEVENT
END:VCALENDAR