BEGIN:VCALENDAR
VERSION:2.0
PRODID:-//AG geschichtliche Landeskunde am Oberrhein - ECPv6.15.20//NONSGML v1.0//EN
CALSCALE:GREGORIAN
METHOD:PUBLISH
X-ORIGINAL-URL:https://ag-landeskunde-oberrhein.de
X-WR-CALDESC:Veranstaltungen für AG geschichtliche Landeskunde am Oberrhein
REFRESH-INTERVAL;VALUE=DURATION:PT1H
X-Robots-Tag:noindex
X-PUBLISHED-TTL:PT1H
BEGIN:VTIMEZONE
TZID:Europe/Berlin
BEGIN:DAYLIGHT
TZOFFSETFROM:+0100
TZOFFSETTO:+0200
TZNAME:CEST
DTSTART:20170326T010000
END:DAYLIGHT
BEGIN:STANDARD
TZOFFSETFROM:+0200
TZOFFSETTO:+0100
TZNAME:CET
DTSTART:20171029T010000
END:STANDARD
BEGIN:DAYLIGHT
TZOFFSETFROM:+0100
TZOFFSETTO:+0200
TZNAME:CEST
DTSTART:20180325T010000
END:DAYLIGHT
BEGIN:STANDARD
TZOFFSETFROM:+0200
TZOFFSETTO:+0100
TZNAME:CET
DTSTART:20181028T010000
END:STANDARD
BEGIN:DAYLIGHT
TZOFFSETFROM:+0100
TZOFFSETTO:+0200
TZNAME:CEST
DTSTART:20190331T010000
END:DAYLIGHT
BEGIN:STANDARD
TZOFFSETFROM:+0200
TZOFFSETTO:+0100
TZNAME:CET
DTSTART:20191027T010000
END:STANDARD
END:VTIMEZONE
BEGIN:VEVENT
DTSTART;TZID=Europe/Berlin:20180707T080000
DTEND;TZID=Europe/Berlin:20180707T180000
DTSTAMP:20260425T162001
CREATED:20220226T170711Z
LAST-MODIFIED:20220226T171021Z
UID:1590-1530950400-1530986400@ag-landeskunde-oberrhein.de
SUMMARY:Antike und Frühmittelalter im Rhein-Neckar-Raum: Grabungen und Baudenkmäler in Ladenburg
DESCRIPTION:Exkursion \nFührung durch Dr. Andreas Hensen\, Leiter des Lobdengau-Museums \nAnmeldung bis 28. 6. 2018 \nAbfahrt vor dem Generallandesarchiv
URL:https://ag-landeskunde-oberrhein.de/event/antike-und-fruehmittelalter-im-rhein-neckar-raum/
LOCATION:Exkursion
CATEGORIES:2018,Exkursion
END:VEVENT
BEGIN:VEVENT
DTSTART;TZID=Europe/Berlin:20180713T190000
DTEND;TZID=Europe/Berlin:20180713T210000
DTSTAMP:20260425T162001
CREATED:20220226T160619Z
LAST-MODIFIED:20220226T162251Z
UID:1587-1531508400-1531515600@ag-landeskunde-oberrhein.de
SUMMARY:Zwischen Machtkonzentration und Machtverlust: Die "Verandrung der Zunften" in elsässischen Städten des 15. und 16. Jahrhunderts
DESCRIPTION:Kristin Zech\, Darmstadt
URL:https://ag-landeskunde-oberrhein.de/event/zwischen-machtkonzentration-und-machtverlust/
CATEGORIES:2018,Vortrag
END:VEVENT
END:VCALENDAR