BEGIN:VCALENDAR
VERSION:2.0
PRODID:-//AG geschichtliche Landeskunde am Oberrhein - ECPv6.15.20//NONSGML v1.0//EN
CALSCALE:GREGORIAN
METHOD:PUBLISH
X-WR-CALNAME:AG geschichtliche Landeskunde am Oberrhein
X-ORIGINAL-URL:https://ag-landeskunde-oberrhein.de
X-WR-CALDESC:Veranstaltungen für AG geschichtliche Landeskunde am Oberrhein
REFRESH-INTERVAL;VALUE=DURATION:PT1H
X-Robots-Tag:noindex
X-PUBLISHED-TTL:PT1H
BEGIN:VTIMEZONE
TZID:Europe/Berlin
BEGIN:DAYLIGHT
TZOFFSETFROM:+0100
TZOFFSETTO:+0200
TZNAME:CEST
DTSTART:20170326T010000
END:DAYLIGHT
BEGIN:STANDARD
TZOFFSETFROM:+0200
TZOFFSETTO:+0100
TZNAME:CET
DTSTART:20171029T010000
END:STANDARD
BEGIN:DAYLIGHT
TZOFFSETFROM:+0100
TZOFFSETTO:+0200
TZNAME:CEST
DTSTART:20180325T010000
END:DAYLIGHT
BEGIN:STANDARD
TZOFFSETFROM:+0200
TZOFFSETTO:+0100
TZNAME:CET
DTSTART:20181028T010000
END:STANDARD
BEGIN:DAYLIGHT
TZOFFSETFROM:+0100
TZOFFSETTO:+0200
TZNAME:CEST
DTSTART:20190331T010000
END:DAYLIGHT
BEGIN:STANDARD
TZOFFSETFROM:+0200
TZOFFSETTO:+0100
TZNAME:CET
DTSTART:20191027T010000
END:STANDARD
END:VTIMEZONE
BEGIN:VEVENT
DTSTART;TZID=Europe/Berlin:20180615T190000
DTEND;TZID=Europe/Berlin:20180615T210000
DTSTAMP:20260425T174147
CREATED:20220226T174031Z
LAST-MODIFIED:20220226T174031Z
UID:1605-1529089200-1529096400@ag-landeskunde-oberrhein.de
SUMMARY:LOPODUNUM: Neue Forschungen zur Stadt der Neckarsueben
DESCRIPTION:Dr. Andreas Hensen\, Ladenburg
URL:https://ag-landeskunde-oberrhein.de/event/lopodunum-neue-forschungen-zur-stadt-der-neckarsueben/
LOCATION:Generallandesarchiv Karlsruhe\, Nördl. Hildapromenade 3\, Karlsruhe\, 76133\, Deutschland
CATEGORIES:2018,Vortrag
END:VEVENT
BEGIN:VEVENT
DTSTART;VALUE=DATE:20180623
DTEND;VALUE=DATE:20180624
DTSTAMP:20260425T174147
CREATED:20220226T171422Z
LAST-MODIFIED:20220226T172252Z
UID:1595-1529712000-1529798399@ag-landeskunde-oberrhein.de
SUMMARY:Untertanenkonflikte im Alten Reich – das Zeitalter der Prozesse
DESCRIPTION:Tagung der Staatlichen Schlösser und Gärten Baden-Württemberg\,\nder Arbeitsgemeinschaft für geschichtliche Landeskunde am Oberrhein\nund der Stadt Rastatt \nᐅ Einladung/Anmeldung/Tagungsprogramm \nDazu ergeht eine besondere Einladung \nProgramm\n23. Juni 2018 im Bibliothekssaal des Schlosses Altdorf- Ettenheim\, Schmieheimer Str. 37 \n\n\n\n10h00\nBegrüßung\n\n\n\n10h15\nProf. Dr. Horst Buszello\nFreiburg\nDer deutsche Bauernkrieg: Revolte und Revolution. Konfliktszenarien und Legitimationsweise\n\n\n11h00\nKaffepause\n\n\n\n11h15\nDr. Karl Heinz Debacher\nRust\n… daß die Bürgerschaft nicht gesonnen sei\, auf das herrschaftliche Begehren einzugehen – Die Ruster Rebellion 1747/48\n\n\n12h00\nDr. Florian Hitz\nChur\nSpannung – Konfrontation – Konflikt: Die Prättigauer Gemeinden und die Herrschaft Österreich\n\n\n13h00\nMittagessen\nAntipasti-Buffet im Parkrestaurant Ettenheim\, Mühlenweg 33 (ca. 15 €)\n\n\n14h30\nDr. Ralf Fetzer\nNeckarhausen\nDemokratie auf dem Lande? Bäuerliche Vorstellungen von Staat und Gesellschaft in den Kraichgauer Untertanenprozessen der Frühneuzeit\n\n\n15h15\nKaffeepause\n\n\n\n15h30\nDr. Thomas Gilgert\nNürnberg\nEin Beamtenleben unter Patrioten\, Jakobinern und Meuchelmördern: der Stühlinger Obervogt Franz Xaver Battie\n\n\n16h15\nProf. Dr. Niels Grüne\nInnsbruck\nWas blieb? Kontinuitäten und Brüche ländlicher Resistenz im Übergang zur Moderne (1770-1850)\n\n\n17h00\nSchluss
URL:https://ag-landeskunde-oberrhein.de/event/untertanenkonflikte-im-alten-reich/
LOCATION:Schloss Altdorf bei Ettenheim
CATEGORIES:2018,Tagung
END:VEVENT
END:VCALENDAR