BEGIN:VCALENDAR
VERSION:2.0
PRODID:-//AG geschichtliche Landeskunde am Oberrhein - ECPv6.15.20//NONSGML v1.0//EN
CALSCALE:GREGORIAN
METHOD:PUBLISH
X-ORIGINAL-URL:https://ag-landeskunde-oberrhein.de
X-WR-CALDESC:Veranstaltungen für AG geschichtliche Landeskunde am Oberrhein
REFRESH-INTERVAL;VALUE=DURATION:PT1H
X-Robots-Tag:noindex
X-PUBLISHED-TTL:PT1H
BEGIN:VTIMEZONE
TZID:Europe/Berlin
BEGIN:DAYLIGHT
TZOFFSETFROM:+0100
TZOFFSETTO:+0200
TZNAME:CEST
DTSTART:20170326T010000
END:DAYLIGHT
BEGIN:STANDARD
TZOFFSETFROM:+0200
TZOFFSETTO:+0100
TZNAME:CET
DTSTART:20171029T010000
END:STANDARD
BEGIN:DAYLIGHT
TZOFFSETFROM:+0100
TZOFFSETTO:+0200
TZNAME:CEST
DTSTART:20180325T010000
END:DAYLIGHT
BEGIN:STANDARD
TZOFFSETFROM:+0200
TZOFFSETTO:+0100
TZNAME:CET
DTSTART:20181028T010000
END:STANDARD
BEGIN:DAYLIGHT
TZOFFSETFROM:+0100
TZOFFSETTO:+0200
TZNAME:CEST
DTSTART:20190331T010000
END:DAYLIGHT
BEGIN:STANDARD
TZOFFSETFROM:+0200
TZOFFSETTO:+0100
TZNAME:CET
DTSTART:20191027T010000
END:STANDARD
END:VTIMEZONE
BEGIN:VEVENT
DTSTART;TZID=Europe/Berlin:20180420T190000
DTEND;TZID=Europe/Berlin:20180420T210000
DTSTAMP:20260425T202054
CREATED:20220226T174656Z
LAST-MODIFIED:20220226T174658Z
UID:1611-1524250800-1524258000@ag-landeskunde-oberrhein.de
SUMMARY:Dynastische Logik - Das Agieren der pfälzischen Kurfürsten in den Konflikten der Konfessionspolitik zwischen 1697 und 1728
DESCRIPTION:Dr. Henning Murmann\, Heidelberg
URL:https://ag-landeskunde-oberrhein.de/event/dynastische-logik/
LOCATION:Generallandesarchiv Karlsruhe\, Nördl. Hildapromenade 3\, Karlsruhe\, 76133\, Deutschland
CATEGORIES:2018,Vortrag
END:VEVENT
END:VCALENDAR