BEGIN:VCALENDAR
VERSION:2.0
PRODID:-//AG geschichtliche Landeskunde am Oberrhein - ECPv6.15.20//NONSGML v1.0//EN
CALSCALE:GREGORIAN
METHOD:PUBLISH
X-ORIGINAL-URL:https://ag-landeskunde-oberrhein.de
X-WR-CALDESC:Veranstaltungen für AG geschichtliche Landeskunde am Oberrhein
REFRESH-INTERVAL;VALUE=DURATION:PT1H
X-Robots-Tag:noindex
X-PUBLISHED-TTL:PT1H
BEGIN:VTIMEZONE
TZID:Europe/Berlin
BEGIN:DAYLIGHT
TZOFFSETFROM:+0100
TZOFFSETTO:+0200
TZNAME:CEST
DTSTART:20170326T010000
END:DAYLIGHT
BEGIN:STANDARD
TZOFFSETFROM:+0200
TZOFFSETTO:+0100
TZNAME:CET
DTSTART:20171029T010000
END:STANDARD
BEGIN:DAYLIGHT
TZOFFSETFROM:+0100
TZOFFSETTO:+0200
TZNAME:CEST
DTSTART:20180325T010000
END:DAYLIGHT
BEGIN:STANDARD
TZOFFSETFROM:+0200
TZOFFSETTO:+0100
TZNAME:CET
DTSTART:20181028T010000
END:STANDARD
BEGIN:DAYLIGHT
TZOFFSETFROM:+0100
TZOFFSETTO:+0200
TZNAME:CEST
DTSTART:20190331T010000
END:DAYLIGHT
BEGIN:STANDARD
TZOFFSETFROM:+0200
TZOFFSETTO:+0100
TZNAME:CET
DTSTART:20191027T010000
END:STANDARD
END:VTIMEZONE
BEGIN:VEVENT
DTSTART;TZID=Europe/Berlin:20180316T190000
DTEND;TZID=Europe/Berlin:20180316T210000
DTSTAMP:20260425T220203
CREATED:20220226T175402Z
LAST-MODIFIED:20220226T175921Z
UID:1614-1521226800-1521234000@ag-landeskunde-oberrhein.de
SUMMARY:Umbruchzeiten: Karlsruher Historiker  in den Verwerfungen des 19. und 20. Jahrhunderts
DESCRIPTION:Prof. Dr. Peter Steinbach\, Berlin \nzugleich Jahresmitgliederversammlung
URL:https://ag-landeskunde-oberrhein.de/event/umbruchzeiten/
LOCATION:Badische Landesbibliothek\, Erbprinzenstr. 15\, 76133 Karlsruhe
CATEGORIES:2017-2018,Mitgliederversammlung,Vortrag
END:VEVENT
END:VCALENDAR