BEGIN:VCALENDAR
VERSION:2.0
PRODID:-//AG geschichtliche Landeskunde am Oberrhein - ECPv6.15.20//NONSGML v1.0//EN
CALSCALE:GREGORIAN
METHOD:PUBLISH
X-WR-CALNAME:AG geschichtliche Landeskunde am Oberrhein
X-ORIGINAL-URL:https://ag-landeskunde-oberrhein.de
X-WR-CALDESC:Veranstaltungen für AG geschichtliche Landeskunde am Oberrhein
REFRESH-INTERVAL;VALUE=DURATION:PT1H
X-Robots-Tag:noindex
X-PUBLISHED-TTL:PT1H
BEGIN:VTIMEZONE
TZID:Europe/Berlin
BEGIN:DAYLIGHT
TZOFFSETFROM:+0100
TZOFFSETTO:+0200
TZNAME:CEST
DTSTART:20160327T010000
END:DAYLIGHT
BEGIN:STANDARD
TZOFFSETFROM:+0200
TZOFFSETTO:+0100
TZNAME:CET
DTSTART:20161030T010000
END:STANDARD
BEGIN:DAYLIGHT
TZOFFSETFROM:+0100
TZOFFSETTO:+0200
TZNAME:CEST
DTSTART:20170326T010000
END:DAYLIGHT
BEGIN:STANDARD
TZOFFSETFROM:+0200
TZOFFSETTO:+0100
TZNAME:CET
DTSTART:20171029T010000
END:STANDARD
BEGIN:DAYLIGHT
TZOFFSETFROM:+0100
TZOFFSETTO:+0200
TZNAME:CEST
DTSTART:20180325T010000
END:DAYLIGHT
BEGIN:STANDARD
TZOFFSETFROM:+0200
TZOFFSETTO:+0100
TZNAME:CET
DTSTART:20181028T010000
END:STANDARD
END:VTIMEZONE
BEGIN:VEVENT
DTSTART;VALUE=DATE:20171013
DTEND;VALUE=DATE:20171015
DTSTAMP:20260426T055258
CREATED:20220227T124335Z
LAST-MODIFIED:20220227T150837Z
UID:1638-1507852800-1508025599@ag-landeskunde-oberrhein.de
SUMMARY:Kommunen im Nationalsozialismus
DESCRIPTION:Tagung im Martin-Luther-Haus Villingen\,\nzusammen mit dem Stadtarchiv Villingen-Schwenningen und Dr. Robert Neisen\, Freiburg \nᐅ Tagungsprogramm \nDazu ergeht besondere Einladung
URL:https://ag-landeskunde-oberrhein.de/event/kommunen-im-nationalsozialismus/
LOCATION:Martin-Luther Haus\, Villingen-Schwenningen
CATEGORIES:2017-2018,Tagung
ATTACH;FMTTYPE=image/png:https://ag-landeskunde-oberrhein.de/wp-content/uploads/2022/02/AGLO_Tagung_Kommunen_im_NS_201710-e1645965955515.png
END:VEVENT
BEGIN:VEVENT
DTSTART;TZID=Europe/Berlin:20171020T190000
DTEND;TZID=Europe/Berlin:20171020T210000
DTSTAMP:20260426T055258
CREATED:20220227T121510Z
LAST-MODIFIED:20220227T121548Z
UID:1635-1508526000-1508533200@ag-landeskunde-oberrhein.de
SUMMARY:Nach dem Sieg der Revolution. Baden 1849-1855. Ein alternativgeschichtlicher Versuch
DESCRIPTION:Prof. Dr. Hans-Peter Becht\, Stuttgart
URL:https://ag-landeskunde-oberrhein.de/event/nach-dem-sieg-der-revolution-baden-1849-1855/
LOCATION:Generallandesarchiv Karlsruhe\, Nördl. Hildapromenade 3\, Karlsruhe\, 76133\, Deutschland
CATEGORIES:2017-2018,Vortrag
END:VEVENT
END:VCALENDAR